BEGIN:VCALENDAR
VERSION:2.0
PRODID:icalendar-ruby
CALSCALE:GREGORIAN
METHOD:PUBLISH
BEGIN:VEVENT
DTSTAMP:20260422T055540Z
UID:67-1044570@ourlivingwater.church
DTSTART:20260926T120000Z
DTEND:20260926T140000Z
CLASS:PUBLIC
CREATED:20260421T202355
DESCRIPTION:
LAST-MODIFIED:20260421T202355
LOCATION:
SUMMARY:Prayer
URL;VALUE=URI:https://www.ourlivingwater.church/events/prayer/2026-09-26
ATTACH;FILENAME=PNG-image-2.png;FMTTYPE=image/png:https://dq5pwpg1q8ru0.clo
 udfront.net/2023/03/08/18/05/14/ba46c7bf-09e4-4706-bdbe-26c32222a94f/PNG-i
 mage-2.png
END:VEVENT
END:VCALENDAR
